BEGIN:VCALENDAR
VERSION:2.0
PRODID:TYPO3 CMS
METHOD:PUBLISH
BEGIN:VEVENT
UID:b3b1a7509e3ca56ce4dab49ebc7d4d09
DTSTAMP:20260421T121335
SUMMARY:Brandschutzmeister 02.11.2026 - 12.02.2027 bei FeuReX
DESCRIPTION:
DTSTART:20261102T073000
DTEND:20270212T160000
LOCATION:Zentrale Oberhausen, Burgwaldring 4, 86697 Oberhausen
END:VEVENT
END:VCALENDAR